BEGIN:VCALENDAR
VERSION:2.0
METHOD:PUBLISH
BEGIN:VEVENT
SUMMARY:Ten Years After Brexit – Wie geht es weiter?
CLASS:PUBLIC
DESCRIPTION:Link: https://www.gtai.de/de/meta/veranstaltungen/ten-years-after-brexit-wie-geht-es-weiter--1992436
\n„Should the United Kingdom remain a member of the European Union or leave the European Union?“ So lautete die Frage, die die Regierung des Vereinigten Königreichs (VK) vor zehn Jahren ihren Bürgerinnen und Bürgern stellte. Das Ergebnis ist bekannt. \nWir nehmen den Jahrestag des Referendums zum Anlass, uns den aktuellen Stand der Beziehungen zwischen EU und VK anzusehen. Aktuell jährt sich nicht nur das Referendum, sondern auch das Inkrafttreten des Handels- und Kooperationsabkommens. Seit fünf Jahren gibt es den Rahmen für die grenzüberschreitende Geschäftstätigkeit vor. \nWie sieht die aktuelle Praxis aus? Haben sich die neuen Regeln gut eingependelt? Welche Veränderungen sind derzeit noch zu erwarten, zum Beispiel in Sachen Lebensmittelhandel, CBAM oder bei der Einreise zur Dienstleistungserbringung? Wie hat das VK seine neu gewonnenen Freiheiten genutzt, ist es in regulatorischer Hinsicht attraktiver geworden?\nDiese und weitere Themen werden wir behandeln und einen Ausblick in Richtung Zukunft wagen. Denn in einer immer volatileren Welt werden die Beziehungen mit vertrauten Partnern – und dazu zählt das Vereinigte Königreich zweifellos – immer bedeutender.\n  Präsentation:\n  Stefanie Eich, Deputy Director im Bereich Zoll, Germany Trade & Invest\n  Karl-Martin Fischer LL.M., Deputy Director im Bereich Ausländisches Wirtschaftsrecht, Germany Trade & Invest\n  Moderation:\n  Nadine Bauer, Bereichsleitung Ausländisches Wirtschaftsrecht, Germany Trade & Invest\nDie Teilnahme an dem Webinar ist kostenfrei, lediglich eine Anmeldung ist erforderlich.\n20260623-graue-Infobox-10 Jahre Brexit\nWir freuen uns, Sie bei unserem Webinar begrüßen zu dürfen.
X-ALT-DESC;FMTTYPE=text/html:<HTML><HEAD><TITLE></TITLE><BODY><FONT SIZE=2>Link: https://www.gtai.de/de/meta/veranstaltungen/ten-years-after-brexit-wie-geht-es-weiter--1992436<p>„Should the United Kingdom remain a member of the European Union or leave the European Union?“ So lautete die Frage, die die Regierung des Vereinigten Königreichs (VK) vor zehn Jahren ihren Bürgerinnen und Bürgern stellte. Das Ergebnis ist bekannt.<span> </span></p><p>Wir nehmen den Jahrestag des Referendums zum Anlass, uns den aktuellen Stand der Beziehungen zwischen EU und VK anzusehen. Aktuell jährt sich nicht nur das Referendum, sondern auch das Inkrafttreten des Handels- und Kooperationsabkommens. Seit fünf Jahren gibt es den Rahmen für die grenzüberschreitende Geschäftstätigkeit vor. </p><p>Wie sieht die aktuelle Praxis aus? Haben sich die neuen Regeln gut eingependelt? Welche Veränderungen sind derzeit noch zu erwarten, zum Beispiel in Sachen Lebensmittelhandel, CBAM oder bei der Einreise zur Dienstleistungserbringung? Wie hat das VK seine neu gewonnenen Freiheiten genutzt, ist es in regulatorischer Hinsicht attraktiver geworden?</p><p>Diese und weitere Themen werden wir behandeln und einen Ausblick in Richtung Zukunft wagen. Denn in einer immer volatileren Welt werden die Beziehungen mit vertrauten Partnern – und dazu zählt das Vereinigte Königreich zweifellos – immer bedeutender.</p><div class="table-wrap" data-js-gtai-table="{&quot;hScroll&quot;: true, &quot;vScroll&quot;: true, &quot;sort&quot;: false }"><table class="disableLightbox"><tbody><tr><td><strong>Präsentation:</strong></td></tr><tr><td>Stefanie Eich, Deputy Director im Bereich Zoll, Germany Trade &amp; Invest</td></tr><tr><td>Karl-Martin Fischer LL.M., Deputy Director im Bereich Ausländisches Wirtschaftsrecht, Germany Trade &amp; Invest</td></tr><tr><td><strong>Moderation:</strong></td></tr><tr><td>Nadine Bauer, Bereichsleitung Ausländisches Wirtschaftsrecht, Germany Trade &amp; Invest</td></tr></tbody></table></div><p>Die Teilnahme an dem Webinar ist kostenfrei, lediglich eine Anmeldung ist erforderlich.</p>  <div class="hint-box hint-box--secondary "    >  <span class="icon-info-circle"></span><p>Termin: 23. Juni 2026</p><p>Uhrzeit: 10 bis 11 Uhr</p><p><a class="link-external" target="_blank" title="Neues Fenster zur https://attendee.gotowebinar.com/register/256646260003515232?source=Eventanzeige" href="https://attendee.gotowebinar.com/register/256646260003515232?source=Eventanzeige">Melden Sie sich an</a><span> und sichern Sie sich noch heute Ihren Webinar-Platz.</span></p>  </div><p></p><p>Wir freuen uns, Sie bei unserem Webinar begrüßen zu dürfen.</p></FONT></BODY></HTML>
CREATED:20260422T092201Z
DTSTAMP:20260422T000000Z
DTSTART;VALUE=DATE:20260623T100000
DTEND;VALUE=DATE:20260623T110000
END:VEVENT
END:VCALENDAR
