BEGIN:VCALENDAR
VERSION:2.0
METHOD:PUBLISH
BEGIN:VEVENT
SUMMARY:VivaTech
CLASS:PUBLIC
DESCRIPTION:Link: https://www.gtai.de/en/meta/events/vivatech-1993094
\nCelebrating its 10th anniversary, VivaTech 2026 welcomes Germany as its official Partner Country. As part of the Franco‑German Economic Agenda, the German Pavilion unites politics, industry, science and startups under the brand Startup Germany.\nGermany Trade & Invest (GTAI), the economic development agency of the Federal Republic of Germany, will be present at the German Pavilion. GTAI’s industry experts will be available on site to provide hands‑on advice and support to international companies and startups with an interest in Germany as a business location.\nOur free-of-charge services for investors include:\n\n\n* Consulting on individual market entry strategy\n\n* Industry-specific market data and statistics\n\n* Information on the German tax and legal framework\n\n* Information on finance and incentive options\n\n* Active support in finding the best business location in Germany\nAll inquiries are treated confidentially and all investment services are provided entirely free of charge.\nWe look forward to meeting you in Paris!\nvivatech-infobox
X-ALT-DESC;FMTTYPE=text/html:<HTML><HEAD><TITLE></TITLE><BODY><FONT SIZE=2>Link: https://www.gtai.de/en/meta/events/vivatech-1993094<p>Celebrating its 10th anniversary, VivaTech 2026 welcomes Germany as its official Partner Country. As part of the Franco‑German Economic Agenda, the German Pavilion unites politics, industry, science and startups under the brand Startup Germany.</p><p>Germany Trade &amp; Invest (GTAI), the economic development agency of the Federal Republic of Germany, will be present at the German Pavilion. GTAI’s industry experts will be available on site to provide hands‑on advice and support to international companies and startups with an interest in Germany as a business location.</p><p><strong>Our free-of-charge services for investors include:</strong></p><ul class="rte--list"><li>Consulting on individual market entry strategy</li><li>Industry-specific market data and statistics</li><li>Information on the German tax and legal framework</li><li>Information on finance and incentive options</li><li>Active support in finding the best business location in Germany</li></ul><p>All inquiries are treated confidentially and all investment services are provided entirely free of charge.</p><p>We look forward to meeting you in Paris!</p>  <div class="hint-box hint-box--secondary "    >  <span class="icon-info-circle"></span><p><span>Event: June 17, 2026 - June 20, 2026</span></p><p>Location<span>: </span><span class="TextRun SCXW137014521 BCX8 NormalTextRun" lang="en-GB">Paris Expo Porte de Versailles, 1 Place de la Porte de Versailles, F-75015 Paris France</span><span class="EOP Selected SCXW137014521 BCX8"> </span></p><p> </p><p>Find more information about this event:<strong> </strong><a class="link-external" title="New window to https://vivatech.com/" href="https://vivatech.com/" target="_blank" rel="noopener"><strong>VivaTech</strong></a></p>  </div><p></p></FONT></BODY></HTML>
LOCATION:Paris
CREATED:20260424T090556Z
DTSTAMP:20230303T090000Z
DTSTART;VALUE=DATE:20260617
DTEND;VALUE=DATE:20260621
END:VEVENT
END:VCALENDAR
