BEGIN:VCALENDAR
VERSION:2.0
METHOD:PUBLISH
BEGIN:VEVENT
SUMMARY:XPONENTIAL
CLASS:PUBLIC
DESCRIPTION:Link: https://www.gtai.de/en/meta/events/xponential-1858992
\nGermany Trade & Invest is pleased to join the German Pavilion at XPONENTIAL 2026 in Detroit, the premier North American event for uncrewed, autonomous, and robotic technologies.\nMeet Our Experts\nConnect with Stefan Di Bitonto and Emilio Brahmst at Xponential to learn more about business opportunities in Germany.\nOur Free Services for Investors Include:\n\n\n* Tailored consulting on market entry strategies\n\n* Industry-specific market data and statistics\n\n* Guidance on Germany’s tax and legal framework\n\n* Information on financing and incentive programs\nAll inquiries are handled confidentially. As a publicly funded agency, our services are completely free of charge.\nWe look forward to seeing you there!\nInfobox-exponential
X-ALT-DESC;FMTTYPE=text/html:<HTML><HEAD><TITLE></TITLE><BODY><FONT SIZE=2>Link: https://www.gtai.de/en/meta/events/xponential-1858992<p>Germany Trade &amp; Invest is pleased to join the <a class="link-external" title="New window to https://xponential.german-pavilion.com/en" href="https://xponential.german-pavilion.com/en" target="_blank" rel="noopener">German Pavilion</a> at XPONENTIAL 2026 in Detroit, the premier North American event for uncrewed, autonomous, and robotic technologies.</p><p><strong>Meet Our Experts</strong></p><p><span>Connect with <strong>Stefan Di Bitonto</strong> and <strong>Emilio Brahmst</strong> at Xponential to learn more about business opportunities in Germany.</span></p><p><strong>Our Free Services for Investors Include:</strong></p><ul class="rte--list"><li>Tailored consulting on market entry strategies</li><li>Industry-specific market data and statistics</li><li>Guidance on Germany’s tax and legal framework</li><li>Information on financing and incentive programs</li></ul><p>All inquiries are handled confidentially. As a publicly funded agency, our services are<strong> completely free of charge</strong>.</p><p>We look forward to seeing you there!<br/>  <div class="hint-box hint-box--secondary "    >  <span class="icon-info-circle"></span><p><span>Event: </span><span dir="ltr">11 May - 14 May 2026</span><span> - Detroit, USA</span></p><p><a class="link-external" title="New window to https://xponential.german-pavilion.com/en" href="https://xponential.german-pavilion.com/en" target="_blank" rel="noopener"><span>German Pavilion</span></a><span> Booth: 26013</span></p><p>Location<span>: Huntington Place, Detroit, MI, US</span></p><p> </p><p><span>Find more information about this event: </span><a class="link-external" title="New window to https://xponential.org/" href="https://xponential.org/" target="_blank" rel="noopener"><span>XPONENTIAL 2026</span></a></p>  </div></p></FONT></BODY></HTML>
LOCATION:Detroit
CREATED:20260423T091014Z
DTSTAMP:20230303T090000Z
DTSTART;VALUE=DATE:20260511
DTEND;VALUE=DATE:20260515
END:VEVENT
END:VCALENDAR
